{"text_format":"2","workbook":"xlsx","n_sheets":9,"sheets":["은평구총괄","유형별","정도별","연령별","연령별,유형별","홈페이지용","Sheet1","Sheet2","Sheet3"],"not_rendered":{"charts":0,"images":0,"macros":0,"external_links":0,"defined_names":5,"comments":0,"pivot_tables":0},"unopened":[],"bounds":{"document_bytes":16777216,"sheet_cells":100000,"run_cost":"one","rows_first":2000,"rows_last":500,"rows_between":2000,"halvings":0,"cell_chars":16384,"cell_head_chars":4096},"cells_cut":0,"cells_raw":0,"read":"whole","date_system":"1900"}

{"sheet":"은평구총괄","index":0,"n_rows":22,"n_cols":12,"rows_kept":22,"cut":false,"hidden":false,"merged":[[6,1,21,1],[4,1,5,1],[4,2,5,2],[1,9,1,11],[1,1,1,8],[4,6,4,8],[4,3,4,5],[4,9,4,11],[0,1,0,11],[2,1,2,3],[2,9,2,11],[3,1,3,8],[3,9,3,11]]}
[null,"은평구 등록장애인 현황\n(2025. 9월 말 기준)"]
[]
[null,"서울특별시 은평구",{"$nulls":7},"(단위 : 명)"]
[]
[null,"자치구","장애유형","합계",null,null,"심한 장애",null,null,"심하지 않은 장애"]
[null,null,null,"계","남","여","계","남","여","계","남","여"]
[null,"은평구","합 계",21202,12316,8886,8054,4996,3058,13148,7320,5828]
[null,null,"지체",8216,4476,3740,1333,850,483,6883,3626,3257]
[null,null,"시각",2275,1334,941,433,234,199,1842,1100,742]
[null,null,"청각",3346,1850,1496,614,301,313,2732,1549,1183]
[null,null,"언어",168,122,46,94,68,26,74,54,20]
[null,null,"지적",1892,1241,651,1892,1241,651,0,0,0]
[null,null,"뇌병변",2061,1219,842,1137,636,501,924,583,341]
[null,null,"자폐성",525,433,92,525,433,92,0,0,0]
[null,null,"정신",1111,671,440,1071,651,420,40,20,20]
[null,null,"신장",997,593,404,776,466,310,221,127,94]
[null,null,"심장",45,26,19,31,14,17,14,12,2]
[null,null,"호흡기",110,77,33,103,75,28,7,2,5]
[null,null,"간",172,107,65,7,5,2,165,102,63]
[null,null,"안면",24,14,10,9,6,3,15,8,7]
[null,null,"장루.요루",196,121,75,18,10,8,178,111,67]
[null,null,"뇌전증",64,32,32,11,6,5,53,26,27]

{"sheet":"유형별","index":1,"n_rows":20,"n_cols":49,"rows_kept":20,"cut":false,"hidden":false,"merged":[[1,1,1,3],[1,4,1,6],[1,7,1,9],[1,10,1,12],[1,13,1,15],[1,0,2,0],[0,0,0,46],[1,46,1,48],[1,34,1,36],[1,37,1,39],[1,40,1,42],[1,43,1,45],[1,31,1,33],[1,16,1,18],[1,19,1,21],[1,22,1,24],[1,25,1,27],[1,28,1,30]]}
[" 은평구 동별 장애인현황(유형별)\n(2025. 9월말)"]
["동별","합계",null,null,"지체",null,null,"시각",null,null,"청각",null,null,"언어",null,null,"지적",null,null,"뇌병변",null,null,"자폐",null,null,"정신",null,null,"신장",null,null,"심장",null,null,"호흡기",null,null,"간",null,null,"안면",null,null,"장루.요루",null,null,"뇌전증"]
[null,"합계","남성","여성","소계","남성","여성","소계","남성","여성","소계","남성","여성","소계","남성","여성","소계","남성","여성","소계","남성","여성","소계","남성","여성","소계","남성","여성","소계","남성","여성","소계","남성","여성","소계","남성","여성","소계","남성","여성","소계","남성","여성","소계","남성","여성","소계","남성","여성"]
["합  계",21202,12316,8886,8216,4476,3740,2275,1334,941,3346,1850,1496,168,122,46,1892,1241,651,2061,1219,842,525,433,92,1111,671,440,997,593,404,45,26,19,110,77,33,172,107,65,24,14,10,196,121,75,64,32,32]
["녹번동",1621,935,686,674,371,303,174,114,60,294,161,133,13,9,4,115,73,42,152,79,73,674,371,303,63,34,29,77,50,27,2,1,1,4,2,2,9,8,1,3,3,0,17,12,5,1,1,0]
["불광1동",1564,874,690,622,341,281,180,101,79,250,142,108,12,8,4,112,67,45,149,82,67,622,341,281,66,34,32,94,46,48,4,1,3,7,7,0,17,9,8,1,1,0,16,9,7,4,2,2]
["불광2동",1442,842,600,543,306,237,168,114,54,255,145,110,16,15,1,118,71,47,124,74,50,543,306,237,73,27,46,71,38,33,3,3,0,2,2,0,7,4,3,3,1,2,16,5,11,11,5,6]
["갈현1동",681,388,293,271,142,129,87,50,37,103,57,46,4,3,1,57,37,20,56,38,18,271,142,129,32,17,15,30,14,16,1,1,0,2,2,0,8,5,3,0,0,0,9,4,5,2,1,1]
["갈현2동",1262,729,533,504,274,230,129,82,47,197,117,80,18,14,4,107,67,40,116,67,49,504,274,230,74,33,41,57,36,21,5,2,3,7,6,1,13,8,5,0,0,0,8,6,2,3,1,2]
["구산동",2105,1449,656,577,325,252,167,102,65,233,133,100,15,11,4,401,310,91,224,161,63,577,325,252,308,271,37,65,46,19,0,0,0,22,15,7,17,15,2,2,1,1,20,16,4,4,3,1]
["대조동",1231,705,526,492,265,227,146,78,68,208,120,88,7,5,2,71,47,24,116,68,48,492,265,227,66,33,33,68,46,22,2,1,1,6,5,1,6,3,3,1,1,0,11,9,2,3,1,2]
["응암1동",1313,715,598,562,291,271,152,85,67,218,103,115,6,5,1,75,45,30,128,77,51,562,291,271,49,28,21,55,29,26,6,3,3,5,5,0,8,4,4,2,2,0,9,7,2,3,1,2]
["응암2동",959,530,429,364,196,168,99,53,46,152,74,78,8,6,2,72,46,26,96,51,45,364,196,168,46,30,16,52,25,27,3,2,1,10,6,4,8,4,4,2,0,2,6,3,3,5,4,1]
["응암3동",1314,736,578,509,274,235,148,82,66,247,124,123,7,5,2,89,60,29,139,86,53,509,274,235,51,28,23,58,38,20,3,1,2,8,6,2,12,3,9,0,0,0,15,11,4,7,2,5]
["역촌동",2171,1216,955,886,467,419,206,115,91,344,199,145,18,8,10,205,127,78,221,132,89,886,467,419,92,37,55,108,66,42,2,2,0,14,7,7,12,8,4,2,1,1,14,8,6,3,2,1]
["신사1동",1246,731,515,479,275,204,153,86,67,174,109,65,16,9,7,148,88,60,110,61,49,479,275,204,49,32,17,56,33,23,2,2,0,3,1,2,7,4,3,2,1,1,10,4,6,6,3,3]
["신사2동",880,503,377,377,203,174,86,59,27,137,72,65,6,6,0,80,46,34,71,43,28,377,203,174,25,13,12,50,28,22,3,1,2,7,6,1,4,2,2,1,1,0,9,4,5,4,3,1]
["증산동",656,384,272,278,159,119,54,30,24,118,72,46,6,3,3,43,27,16,54,27,27,278,159,119,33,15,18,32,20,12,1,1,0,3,2,1,6,5,1,1,0,1,8,7,1,3,0,3]
["수색동",822,444,378,317,164,153,97,52,45,125,67,58,4,4,0,61,41,20,100,49,51,317,164,153,31,13,18,37,20,17,1,0,1,3,0,3,11,8,3,2,2,0,9,4,5,0,0,0]
["진관동",1935,1135,800,761,423,338,229,131,98,291,155,136,12,11,1,138,89,49,205,124,81,761,423,338,53,26,27,87,58,29,7,5,2,7,5,2,27,17,10,2,0,2,19,12,7,5,3,2]

{"sheet":"정도별","index":2,"n_rows":22,"n_cols":12,"rows_kept":22,"cut":false,"hidden":false,"merged":[[1,1,1,11],[5,1,21,1],[3,6,3,8],[3,3,3,5],[3,2,4,2],[3,1,4,1],[3,9,3,11],[2,10,2,11],[2,1,2,2]]}
[]
[null,"은평구 동별 장애인현황(정도별)"]
[null,"*2025. 9월말 기준",{"$nulls":8},"(단위 : 명)"]
[null,"자치구","동","합계",null,null,"심한 장애",null,null,"심하지 않은 장애"]
[null,null,null,"계","남자","여자","계","남자","여자","계","남자","여자"]
[null,"은평구","합  계",21202,12316,8886,8054,4996,3058,13148,7320,5828]
[null,null,"녹번동",1621,935,686,544,319,225,1077,616,461]
[null,null,"불광1동",1564,874,690,550,308,242,1014,566,448]
[null,null,"불광2동",1442,842,600,507,298,209,935,544,391]
[null,null,"갈현1동",681,388,293,248,147,101,433,241,192]
[null,null,"갈현2동",1262,729,533,473,274,199,789,455,334]
[null,null,"구산동",2105,1449,656,1149,895,254,956,554,402]
[null,null,"대조동",1231,705,526,444,272,172,787,433,354]
[null,null,"응암1동",1313,715,598,458,260,198,855,455,400]
[null,null,"응암2동",959,530,429,375,226,149,584,304,280]
[null,null,"응암3동",1314,736,578,401,244,157,913,492,421]
[null,null,"역촌동",2171,1216,955,803,464,339,1368,752,616]
[null,null,"신사1동",1246,731,515,488,299,189,758,432,326]
[null,null,"신사2동",880,503,377,299,182,117,581,321,260]
[null,null,"증산동",656,384,272,235,142,93,421,242,179]
[null,null,"수색동",822,444,378,317,182,135,505,262,243]
[null,null,"진관동",1935,1135,800,763,484,279,1172,651,521]

{"sheet":"연령별","index":3,"n_rows":28,"n_cols":11,"rows_kept":28,"cut":false,"hidden":false,"merged":[[5,0,26,0],[3,8,3,10],[0,0,0,10],[1,0,1,10],[2,0,2,8],[2,9,2,10],[3,0,4,0],[3,1,4,1],[3,2,3,4],[3,5,3,7]]}
["은평구 장애인 연령구간별(5세 간격), 장애정도별 등록 현황"]
[{"$f":"정도별!B3","v":"*2025. 9월말 기준"}]
[{"$nulls":9},"(단위: 명)"]
["구분","나이","합계",null,null,"심한 장애",null,null,"심하지 않은 장애"]
[null,null,"합계","남성","여성","소계","남성","여성","소계","남성","여성"]
["합계","합계",21202,12316,8886,8054,4996,3058,13148,7320,5828]
[null,"0~4",38,19,19,30,16,14,8,3,5]
[null,"5~9",267,180,87,247,170,77,20,10,10]
[null,"10~14",313,212,101,292,198,94,21,14,7]
[null,"15~19",280,191,89,241,168,73,39,23,16]
[null,"20~24",354,218,136,297,189,108,57,29,28]
[null,"25~29",480,295,185,367,235,132,113,60,53]
[null,"30~34",550,358,192,416,280,136,134,78,56]
[null,"35~39",515,325,190,325,211,114,190,114,76]
[null,"40~44",637,427,210,348,214,134,289,213,76]
[null,"45~49",814,564,250,415,275,140,399,289,110]
[null,"50~54",1275,859,416,623,389,234,652,470,182]
[null,"55~59",1626,1089,537,708,450,258,918,639,279]
[null,"60~64",1973,1335,638,709,470,239,1264,865,399]
[null,"65~69",2491,1550,941,811,520,291,1680,1030,650]
[null,"70~74",2409,1358,1051,693,447,246,1716,911,805]
[null,"75~79",2587,1343,1244,611,358,253,1976,985,991]
[null,"80~84",2375,1114,1261,473,233,240,1902,881,1021]
[null,"85~89",1557,653,904,315,126,189,1242,527,715]
[null,"90~94",544,188,356,109,40,69,435,148,287]
[null,"95~99",100,33,67,21,7,14,79,26,53]
[null,"100~104",16,5,11,2,0,2,14,5,9]
[null,"105~109",1,0,1,1,0,1,0,0,0]

{"sheet":"연령별,유형별","index":4,"n_rows":110,"n_cols":50,"rows_kept":110,"cut":false,"hidden":false,"merged":[[2,44,2,46],[2,47,2,49],[4,0,4,1],[1,1,1,25],[0,0,0,49],[2,0,3,0],[2,1,3,1],[2,2,2,4],[2,5,2,7],[2,8,2,10],[2,11,2,13],[2,14,2,16],[2,17,2,19],[2,20,2,22],[2,23,2,25],[2,26,2,28],[5,0,44,0],[45,0,88,0],[89,0,109,0],[2,38,2,40],[2,41,2,43],[2,29,2,31],[2,32,2,34],[2,35,2,37]]}
["은평구 등록장애인 연령별, 유형별 현황"]
[null,{"$f":"정도별!B3","v":"*2025. 9월말 기준"}]
["구분","나이","합계",null,null,"지체",null,null,"시각",null,null,"청각",null,null,"언어",null,null,"지적",null,null,"뇌병변",null,null,"자폐",null,null,"정신",null,null,"신장",null,null,"심장",null,null,"호흡기",null,null,"간",null,null,"안면",null,null,"장루.요루",null,null,"뇌전증"]
[null,null,"합계","남성","여성","소계","남성","여성","소계","남성","여성","소계","남성","여성","소계","남성","여성","소계","남성","여성","소계","남성","여성","소계","남성","여성","소계","남성","여성","소계","남성","여성","소계","남성","여성","소계","남성","여성","소계","남성","여성","소계","남성","여성","소계","남성","여성","소계","남성","여성"]
["합계",null,21202,12316,8886,8216,4476,3740,2275,1334,941,3346,1850,1496,168,122,46,1892,1241,651,2061,1219,842,525,433,92,1111,671,440,997,593,404,45,26,19,110,77,33,172,107,65,24,14,10,196,121,75,64,32,32]
["합계","1",5,2,3,0,0,0,0,0,0,2,1,1,0,0,0,0,0,0,2,1,1,0,0,0,0,0,0,0,0,0,0,0,0,0,0,0,1,0,1,0,0,0,0,0,0,0,0,0]
[null,"2",6,3,3,0,0,0,0,0,0,1,0,1,0,0,0,0,0,0,5,3,2,0,0,0,0,0,0,0,0,0,0,0,0,0,0,0,0,0,0,0,0,0,0,0,0,0,0,0]
[null,"3",11,5,6,0,0,0,0,0,0,1,0,1,0,0,0,2,0,2,6,3,3,1,1,0,0,0,0,1,1,0,0,0,0,0,0,0,0,0,0,0,0,0,0,0,0,0,0,0]
[null,"4",16,9,7,0,0,0,0,0,0,1,1,0,2,1,1,3,2,1,5,2,3,5,3,2,0,0,0,0,0,0,0,0,0,0,0,0,0,0,0,0,0,0,0,0,0,0,0,0]
[null,"5",30,19,11,1,1,0,1,1,0,3,1,2,3,2,1,5,3,2,3,1,2,14,10,4,0,0,0,0,0,0,0,0,0,0,0,0,0,0,0,0,0,0,0,0,0,0,0,0]
[null,"6",49,27,22,0,0,0,1,1,0,2,1,1,3,1,2,7,2,5,5,1,4,30,21,9,0,0,0,0,0,0,0,0,0,0,0,0,0,0,0,0,0,0,1,0,1,0,0,0]
[null,"7",60,42,18,1,0,1,1,1,0,0,0,0,3,2,1,14,10,4,10,3,7,31,26,5,0,0,0,0,0,0,0,0,0,0,0,0,0,0,0,0,0,0,0,0,0,0,0,0]
[null,"8",60,40,20,0,0,0,0,0,0,2,0,2,2,2,0,18,13,5,7,3,4,30,21,9,0,0,0,0,0,0,0,0,0,0,0,0,0,0,0,0,0,0,1,1,0,0,0,0]
[null,"9",68,52,16,0,0,0,1,0,1,2,1,1,1,1,0,18,14,4,5,2,3,41,34,7,0,0,0,0,0,0,0,0,0,0,0,0,0,0,0,0,0,0,0,0,0,0,0,0]
[null,"10",53,38,15,0,0,0,1,1,0,5,1,4,0,0,0,22,18,4,4,2,2,21,16,5,0,0,0,0,0,0,0,0,0,0,0,0,0,0,0,0,0,0,0,0,0,0,0,0]
[null,"11",69,45,24,0,0,0,0,0,0,2,1,1,1,1,0,29,14,15,11,8,3,26,21,5,0,0,0,0,0,0,0,0,0,0,0,0,0,0,0,0,0,0,0,0,0,0,0,0]
[null,"12",57,39,18,0,0,0,1,0,1,2,0,2,0,0,0,25,18,7,9,5,4,18,14,4,0,0,0,0,0,0,1,1,0,0,0,0,1,1,0,0,0,0,0,0,0,0,0,0]
[null,"13",64,39,25,1,0,1,2,2,0,2,0,2,0,0,0,26,14,12,11,4,7,22,19,3,0,0,0,0,0,0,0,0,0,0,0,0,0,0,0,0,0,0,0,0,0,0,0,0]
[null,"14",70,51,19,3,2,1,3,1,2,2,1,1,0,0,0,32,23,9,5,3,2,25,21,4,0,0,0,0,0,0,0,0,0,0,0,0,0,0,0,0,0,0,0,0,0,0,0,0]
[null,"15",65,46,19,1,1,0,1,0,1,0,0,0,2,2,0,29,18,11,7,5,2,25,20,5,0,0,0,0,0,0,0,0,0,0,0,0,0,0,0,0,0,0,0,0,0,0,0,0]
[null,"16",56,36,20,4,3,1,2,1,1,1,1,0,0,0,0,24,12,12,4,3,1,18,14,4,0,0,0,0,0,0,1,1,0,0,0,0,1,1,0,0,0,0,1,0,1,0,0,0]
[null,"17",56,42,14,1,1,0,2,0,2,1,0,1,0,0,0,32,27,5,7,5,2,13,9,4,0,0,0,0,0,0,0,0,0,0,0,0,0,0,0,0,0,0,0,0,0,0,0,0]
[null,"18",54,36,18,3,0,3,1,1,0,1,1,0,0,0,0,35,24,11,5,2,3,8,7,1,0,0,0,0,0,0,0,0,0,0,0,0,1,1,0,0,0,0,0,0,0,0,0,0]
[null,"19",49,31,18,4,3,1,1,1,0,1,0,1,0,0,0,32,21,11,4,1,3,6,5,1,0,0,0,0,0,0,0,0,0,0,0,0,1,0,1,0,0,0,0,0,0,0,0,0]
[null,"20",53,30,23,8,1,7,2,1,1,4,2,2,0,0,0,29,19,10,1,0,1,7,6,1,0,0,0,1,1,0,1,0,1,0,0,0,0,0,0,0,0,0,0,0,0,0,0,0]
[null,"21",72,47,25,4,3,1,1,0,1,4,1,3,1,1,0,41,24,17,7,5,2,12,12,0,1,1,0,1,0,1,0,0,0,0,0,0,0,0,0,0,0,0,0,0,0,0,0,0]
[null,"22",75,45,30,8,7,1,1,1,0,3,0,3,1,1,0,44,23,21,8,4,4,5,5,0,0,0,0,1,1,0,2,2,0,0,0,0,2,1,1,0,0,0,0,0,0,0,0,0]
[null,"23",67,42,25,6,1,5,5,4,1,5,1,4,0,0,0,32,24,8,6,2,4,8,8,0,1,1,0,0,0,0,2,1,1,0,0,0,2,0,2,0,0,0,0,0,0,0,0,0]
[null,"24",87,54,33,8,5,3,5,2,3,5,4,1,0,0,0,49,30,19,2,2,0,11,9,2,4,2,2,1,0,1,0,0,0,0,0,0,2,0,2,0,0,0,0,0,0,0,0,0]
[null,"25",94,58,36,10,3,7,4,3,1,6,3,3,0,0,0,41,28,13,7,5,2,15,12,3,5,2,3,1,1,0,2,0,2,1,1,0,1,0,1,0,0,0,0,0,0,1,0,1]
[null,"26",89,60,29,4,1,3,5,2,3,8,5,3,0,0,0,40,27,13,10,6,4,17,16,1,1,1,0,0,0,0,1,1,0,0,0,0,3,1,2,0,0,0,0,0,0,0,0,0]
[null,"27",97,57,40,12,6,6,7,4,3,4,0,4,2,2,0,54,34,20,6,3,3,6,5,1,3,1,2,2,1,1,0,0,0,0,0,0,0,0,0,0,0,0,0,0,0,1,1,0]
[null,"28",92,55,37,10,3,7,14,9,5,6,4,2,2,2,0,38,23,15,8,4,4,7,7,0,7,3,4,0,0,0,0,0,0,0,0,0,0,0,0,0,0,0,0,0,0,0,0,0]
[null,"29",108,65,43,14,5,9,10,7,3,6,3,3,0,0,0,50,29,21,6,4,2,13,10,3,7,5,2,1,1,0,0,0,0,0,0,0,1,1,0,0,0,0,0,0,0,0,0,0]
[null,"30",98,70,28,14,10,4,9,9,0,6,4,2,0,0,0,42,30,12,6,3,3,9,8,1,5,3,2,4,1,3,1,1,0,0,0,0,0,0,0,0,0,0,1,1,0,1,0,1]
[null,"31",110,69,41,8,4,4,9,7,2,4,2,2,0,0,0,52,30,22,12,6,6,12,12,0,6,5,1,4,2,2,0,0,0,0,0,0,0,0,0,0,0,0,1,0,1,2,1,1]
[null,"32",101,64,37,16,9,7,11,6,5,4,2,2,1,0,1,51,36,15,6,4,2,5,4,1,4,1,3,2,1,1,0,0,0,0,0,0,0,0,0,1,1,0,0,0,0,0,0,0]
[null,"33",134,82,52,19,12,7,13,10,3,8,5,3,2,1,1,53,32,21,11,6,5,8,7,1,11,6,5,5,3,2,2,0,2,0,0,0,0,0,0,0,0,0,1,0,1,1,0,1]
[null,"34",107,73,34,16,12,4,10,7,3,7,4,3,0,0,0,39,26,13,10,7,3,10,9,1,9,6,3,4,2,2,2,0,2,0,0,0,0,0,0,0,0,0,0,0,0,0,0,0]
[null,"35",100,64,36,15,10,5,11,8,3,6,2,4,0,0,0,33,22,11,6,4,2,9,9,0,14,5,9,4,3,1,0,0,0,0,0,0,1,0,1,0,0,0,0,0,0,1,1,0]
[null,"36",91,60,31,20,15,5,11,9,2,5,1,4,0,0,0,28,20,8,9,4,5,7,5,2,9,4,5,1,1,0,0,0,0,0,0,0,1,1,0,0,0,0,0,0,0,0,0,0]
[null,"37",105,71,34,27,18,9,9,5,4,3,2,1,1,0,1,37,27,10,10,8,2,6,6,0,5,2,3,5,3,2,1,0,1,0,0,0,0,0,0,0,0,0,0,0,0,1,0,1]
[null,"38",109,68,41,25,14,11,11,7,4,3,2,1,0,0,0,32,22,10,11,8,3,6,6,0,11,6,5,5,1,4,1,0,1,0,0,0,0,0,0,1,1,0,2,1,1,1,0,1]
[null,"39",110,62,48,27,14,13,22,13,9,4,2,2,2,2,0,27,14,13,5,5,0,4,4,0,11,6,5,4,2,2,0,0,0,1,0,1,1,0,1,0,0,0,1,0,1,1,0,1]
[null,"40",107,69,38,36,23,13,13,8,5,2,2,0,0,0,0,22,14,8,9,5,4,4,3,1,13,10,3,5,2,3,0,0,0,0,0,0,1,1,0,0,0,0,0,0,0,2,1,1]
["합계","41",101,60,41,27,19,8,10,6,4,3,0,3,1,0,1,26,17,9,14,9,5,0,0,0,12,7,5,7,2,5,0,0,0,0,0,0,0,0,0,0,0,0,0,0,0,1,0,1]
[null,"42",124,91,33,39,32,7,18,16,2,2,2,0,0,0,0,25,15,10,14,9,5,1,0,1,13,9,4,6,2,4,2,2,0,1,1,0,0,0,0,0,0,0,1,1,0,2,2,0]
[null,"43",145,94,51,49,41,8,15,11,4,8,3,5,2,1,1,31,16,15,10,6,4,2,2,0,16,9,7,8,4,4,0,0,0,0,0,0,1,0,1,0,0,0,0,0,0,3,1,2]
[null,"44",160,113,47,45,35,10,26,19,7,8,5,3,1,0,1,41,32,9,15,10,5,1,0,1,15,6,9,8,6,2,0,0,0,0,0,0,0,0,0,0,0,0,0,0,0,0,0,0]
[null,"45",144,93,51,48,34,14,14,10,4,13,8,5,0,0,0,26,15,11,13,7,6,2,2,0,17,10,7,9,6,3,0,0,0,0,0,0,1,1,0,0,0,0,0,0,0,1,0,1]
[null,"46",158,109,49,71,58,13,14,7,7,6,2,4,0,0,0,23,13,10,15,13,2,0,0,0,16,8,8,9,6,3,1,1,0,0,0,0,2,1,1,0,0,0,1,0,1,0,0,0]
[null,"47",154,107,47,62,46,16,18,13,5,7,3,4,1,1,0,25,16,9,12,7,5,0,0,0,19,14,5,7,4,3,1,1,0,0,0,0,1,1,0,0,0,0,0,0,0,1,1,0]
[null,"48",170,118,52,49,39,10,19,10,9,5,1,4,2,2,0,36,22,14,19,14,5,0,0,0,26,19,7,7,6,1,0,0,0,1,1,0,3,2,1,2,1,1,0,0,0,1,1,0]
[null,"49",188,137,51,73,60,13,25,13,12,11,4,7,0,0,0,36,29,7,13,9,4,1,1,0,17,13,4,7,5,2,0,0,0,1,1,0,1,0,1,1,1,0,1,1,0,1,0,1]
[null,"50",205,136,69,64,52,12,25,19,6,9,3,6,4,2,2,30,16,14,25,13,12,2,2,0,31,18,13,12,10,2,0,0,0,0,0,0,1,1,0,0,0,0,1,0,1,1,0,1]
[null,"51",228,150,78,83,60,23,27,18,9,9,1,8,4,3,1,28,20,8,25,17,8,0,0,0,31,20,11,12,6,6,0,0,0,1,1,0,2,2,0,1,0,1,1,1,0,4,1,3]
[null,"52",261,186,75,89,71,18,41,29,12,13,7,6,5,3,2,25,19,6,28,19,9,0,0,0,38,22,16,13,12,1,2,1,1,0,0,0,2,1,1,1,0,1,0,0,0,4,2,2]
[null,"53",265,180,85,91,71,20,23,16,7,14,9,5,2,1,1,35,22,13,30,22,8,1,1,0,39,20,19,19,10,9,0,0,0,1,1,0,3,2,1,2,1,1,2,2,0,3,2,1]
[null,"54",316,207,109,115,85,30,40,25,15,14,5,9,3,3,0,37,27,10,20,13,7,0,0,0,47,24,23,25,18,7,2,1,1,2,0,2,7,4,3,1,0,1,2,1,1,1,1,0]
[null,"55",283,179,104,112,76,36,30,21,9,13,7,6,1,1,0,26,17,9,31,20,11,0,0,0,34,20,14,24,12,12,0,0,0,0,0,0,5,4,1,0,0,0,3,1,2,4,0,4]
[null,"56",335,229,106,144,108,36,47,27,20,12,8,4,2,1,1,22,16,6,32,23,9,0,0,0,43,26,17,21,13,8,0,0,0,2,1,1,6,4,2,0,0,0,2,1,1,2,1,1]
[null,"57",315,222,93,134,101,33,36,25,11,19,11,8,3,2,1,15,8,7,29,18,11,0,0,0,46,34,12,25,17,8,2,1,1,0,0,0,4,3,1,0,0,0,2,2,0,0,0,0]
[null,"58",362,246,116,161,112,49,38,24,14,23,14,9,5,2,3,15,12,3,29,23,6,0,0,0,53,31,22,26,20,6,0,0,0,1,0,1,5,5,0,1,1,0,2,0,2,3,2,1]
[null,"59",331,213,118,134,95,39,42,24,18,25,13,12,4,4,0,22,16,6,30,19,11,0,0,0,33,17,16,27,14,13,2,2,0,2,2,0,5,3,2,0,0,0,4,3,1,1,1,0]
[null,"60",338,216,122,152,105,47,40,20,20,35,20,15,3,2,1,13,8,5,35,23,12,0,0,0,29,15,14,22,15,7,0,0,0,1,1,0,7,6,1,0,0,0,1,1,0,0,0,0]
[null,"61",362,254,108,171,121,50,46,34,12,29,19,10,2,1,1,15,10,5,36,27,9,0,0,0,25,16,9,25,16,9,2,1,1,1,0,1,6,5,1,0,0,0,4,4,0,0,0,0]
[null,"62",399,271,128,196,141,55,50,33,17,26,17,9,3,3,0,17,14,3,38,24,14,0,0,0,28,17,11,29,15,14,0,0,0,1,1,0,7,4,3,1,0,1,3,2,1,0,0,0]
[null,"63",384,275,109,175,122,53,47,34,13,37,27,10,4,4,0,12,11,1,37,29,8,0,0,0,36,24,12,21,14,7,2,1,1,3,1,2,3,2,1,0,0,0,3,3,0,4,3,1]
[null,"64",490,319,171,231,159,72,64,37,27,46,27,19,3,3,0,20,13,7,51,34,17,0,0,0,30,21,9,23,14,9,2,2,0,1,0,1,10,5,5,1,0,1,6,2,4,2,2,0]
[null,"65",539,347,192,247,155,92,54,39,15,61,32,29,6,6,0,16,13,3,46,31,15,0,0,0,41,28,13,40,26,14,2,2,0,6,3,3,9,5,4,0,0,0,8,4,4,3,3,0]
[null,"66",522,343,179,244,172,72,52,36,16,54,28,26,7,4,3,16,9,7,59,41,18,0,0,0,42,23,19,32,20,12,0,0,0,4,2,2,6,4,2,1,1,0,5,3,2,0,0,0]
[null,"67",467,289,178,229,140,89,49,32,17,52,32,20,6,3,3,5,4,1,66,42,24,0,0,0,22,16,6,26,11,15,0,0,0,4,3,1,2,1,1,3,3,0,3,2,1,0,0,0]
[null,"68",477,286,191,242,138,104,46,25,21,56,35,21,2,0,2,11,8,3,45,31,14,0,0,0,24,15,9,27,17,10,2,2,0,9,5,4,5,4,1,1,1,0,6,4,2,1,1,0]
[null,"69",486,285,201,241,138,103,44,29,15,63,31,32,4,3,1,11,6,5,49,32,17,0,0,0,22,17,5,39,21,18,1,0,1,5,4,1,3,2,1,0,0,0,2,1,1,2,1,1]
[null,"70",525,313,212,254,146,108,55,34,21,61,32,29,4,3,1,7,3,4,58,36,22,0,0,0,28,19,9,33,21,12,2,1,1,8,6,2,6,6,0,0,0,0,7,4,3,2,2,0]
[null,"71",491,276,215,253,132,121,44,25,19,69,45,24,4,4,0,4,3,1,59,33,26,0,0,0,13,4,9,27,21,6,0,0,0,5,3,2,6,3,3,0,0,0,6,3,3,1,0,1]
[null,"72",465,262,203,228,113,115,56,28,28,69,48,21,2,2,0,1,0,1,49,37,12,0,0,0,20,12,8,30,17,13,0,0,0,1,1,0,3,1,2,0,0,0,6,3,3,0,0,0]
[null,"73",516,299,217,238,122,116,62,37,25,85,51,34,5,5,0,6,5,1,64,43,21,0,0,0,12,8,4,27,17,10,0,0,0,3,2,1,7,5,2,1,0,1,6,4,2,0,0,0]
[null,"74",412,208,204,204,83,121,33,16,17,74,47,27,6,6,0,6,4,2,43,23,20,0,0,0,11,4,7,25,17,8,0,0,0,2,2,0,3,3,0,1,1,0,4,2,2,0,0,0]
[null,"75",535,295,240,247,122,125,61,31,30,100,62,38,3,2,1,6,6,0,59,36,23,0,0,0,17,13,4,28,13,15,0,0,0,7,5,2,3,3,0,0,0,0,4,2,2,0,0,0]
[null,"76",492,247,245,224,91,133,67,37,30,98,59,39,2,1,1,3,2,1,53,28,25,0,0,0,6,5,1,28,16,12,0,0,0,5,5,0,2,2,0,0,0,0,2,1,1,2,0,2]
[null,"77",528,268,260,246,109,137,63,30,33,120,76,44,7,6,1,0,0,0,48,26,22,0,0,0,8,3,5,18,9,9,0,0,0,5,3,2,6,2,4,0,0,0,7,4,3,0,0,0]
[null,"78",574,305,269,260,122,138,82,46,36,129,82,47,2,1,1,3,1,2,58,29,29,0,0,0,5,1,4,20,15,5,1,0,1,3,2,1,1,0,1,0,0,0,10,6,4,0,0,0]
[null,"79",458,228,230,226,90,136,56,24,32,101,69,32,3,2,1,0,0,0,44,26,18,0,0,0,4,3,1,15,8,7,0,0,0,4,4,0,1,0,1,0,0,0,4,2,2,0,0,0]
[null,"80",454,228,226,200,86,114,59,36,23,116,68,48,4,3,1,1,0,1,45,15,30,0,0,0,3,3,0,11,5,6,0,0,0,6,4,2,1,1,0,1,1,0,7,6,1,0,0,0]
[null,"81",471,227,244,203,72,131,48,24,24,139,79,60,3,3,0,1,1,0,47,28,19,0,0,0,3,3,0,15,9,6,1,0,1,2,2,0,1,0,1,1,1,0,6,5,1,1,0,1]
[null,"82",497,230,267,212,63,149,62,38,24,163,99,64,3,2,1,0,0,0,32,13,19,0,0,0,2,2,0,12,7,5,0,0,0,4,3,1,1,0,1,1,0,1,5,3,2,0,0,0]
[null,"83",549,255,294,235,83,152,59,26,33,158,91,67,1,0,1,2,2,0,54,32,22,0,0,0,1,0,1,20,9,11,0,0,0,1,1,0,3,0,3,0,0,0,14,10,4,1,1,0]
[null,"84",404,174,230,168,56,112,50,22,28,124,67,57,1,1,0,1,1,0,30,9,21,0,0,0,2,1,1,21,12,9,0,0,0,0,0,0,0,0,0,0,0,0,7,5,2,0,0,0]
["합계","85",372,178,194,145,55,90,39,20,19,135,77,58,3,2,1,0,0,0,33,15,18,0,0,0,1,0,1,11,6,5,0,0,0,0,0,0,1,1,0,1,0,1,3,2,1,0,0,0]
[null,"86",366,159,207,129,41,88,49,25,24,137,74,63,1,1,0,0,0,0,32,10,22,0,0,0,1,0,1,12,4,8,0,0,0,1,1,0,0,0,0,0,0,0,4,3,1,0,0,0]
[null,"87",320,123,197,109,30,79,28,11,17,125,54,71,1,1,0,2,1,1,34,13,21,0,0,0,0,0,0,10,5,5,1,1,0,2,2,0,0,0,0,0,0,0,8,5,3,0,0,0]
[null,"88",279,106,173,116,31,85,18,10,8,107,48,59,0,0,0,1,1,0,24,8,16,0,0,0,1,1,0,10,5,5,0,0,0,1,1,0,0,0,0,0,0,0,1,1,0,0,0,0]
[null,"89",220,87,133,67,16,51,27,12,15,98,45,53,1,0,1,0,0,0,20,11,9,0,0,0,0,0,0,5,2,3,0,0,0,0,0,0,0,0,0,0,0,0,2,1,1,0,0,0]
[null,"90",179,59,120,70,14,56,14,3,11,71,34,37,0,0,0,1,0,1,13,2,11,0,0,0,1,0,1,5,3,2,0,0,0,0,0,0,0,0,0,0,0,0,4,3,1,0,0,0]
[null,"91",151,56,95,52,10,42,10,3,7,78,37,41,0,0,0,0,0,0,9,5,4,0,0,0,0,0,0,1,1,0,0,0,0,0,0,0,0,0,0,0,0,0,1,0,1,0,0,0]
[null,"92",99,37,62,22,5,17,11,5,6,55,24,31,2,1,1,0,0,0,8,1,7,0,0,0,0,0,0,1,1,0,0,0,0,0,0,0,0,0,0,0,0,0,0,0,0,0,0,0]
[null,"93",59,17,42,17,1,16,1,0,1,34,15,19,1,0,1,0,0,0,4,1,3,0,0,0,0,0,0,2,0,2,0,0,0,0,0,0,0,0,0,0,0,0,0,0,0,0,0,0]
[null,"94",56,19,37,12,3,9,12,4,8,27,9,18,0,0,0,0,0,0,2,1,1,0,0,0,0,0,0,1,0,1,0,0,0,0,0,0,0,0,0,0,0,0,2,2,0,0,0,0]
[null,"95",34,6,28,11,0,11,2,1,1,20,5,15,0,0,0,0,0,0,1,0,1,0,0,0,0,0,0,0,0,0,0,0,0,0,0,0,0,0,0,0,0,0,0,0,0,0,0,0]
[null,"96",33,15,18,12,4,8,3,1,2,14,6,8,0,0,0,0,0,0,1,1,0,0,0,0,0,0,0,1,1,0,0,0,0,1,1,0,0,0,0,0,0,0,1,1,0,0,0,0]
[null,"97",17,7,10,3,0,3,2,0,2,10,6,4,0,0,0,0,0,0,0,0,0,0,0,0,0,0,0,0,0,0,0,0,0,0,0,0,0,0,0,0,0,0,2,1,1,0,0,0]
[null,"98",10,4,6,3,1,2,1,1,0,6,2,4,0,0,0,0,0,0,0,0,0,0,0,0,0,0,0,0,0,0,0,0,0,0,0,0,0,0,0,0,0,0,0,0,0,0,0,0]
[null,"99",6,1,5,0,0,0,0,0,0,6,1,5,0,0,0,0,0,0,0,0,0,0,0,0,0,0,0,0,0,0,0,0,0,0,0,0,0,0,0,0,0,0,0,0,0,0,0,0]
[null,"100",4,2,2,2,1,1,0,0,0,1,1,0,0,0,0,0,0,0,0,0,0,0,0,0,0,0,0,0,0,0,0,0,0,0,0,0,0,0,0,0,0,0,1,0,1,0,0,0]
[null,"101",5,0,5,2,0,2,0,0,0,3,0,3,0,0,0,0,0,0,0,0,0,0,0,0,0,0,0,0,0,0,0,0,0,0,0,0,0,0,0,0,0,0,0,0,0,0,0,0]
[null,"102",3,1,2,1,0,1,0,0,0,2,1,1,0,0,0,0,0,0,0,0,0,0,0,0,0,0,0,0,0,0,0,0,0,0,0,0,0,0,0,0,0,0,0,0,0,0,0,0]
[null,"103",2,0,2,0,0,0,0,0,0,2,0,2,0,0,0,0,0,0,0,0,0,0,0,0,0,0,0,0,0,0,0,0,0,0,0,0,0,0,0,0,0,0,0,0,0,0,0,0]
[null,104,2,2,0,1,1,0,0,0,0,1,1,0,0,0,0,0,0,0,0,0,0,0,0,0,0,0,0,0,0,0,0,0,0,0,0,0,0,0,0,0,0,0,0,0,0,0,0,0]
[null,106,1,0,1,0,0,0,0,0,0,1,0,1,0,0,0,0,0,0,0,0,0,0,0,0,0,0,0,0,0,0,0,0,0,0,0,0,0,0,0,0,0,0,0,0,0,0,0,0]

{"sheet":"홈페이지용","index":5,"n_rows":20,"n_cols":6,"rows_kept":20,"cut":false,"hidden":false,"merged":[[0,1,0,4],[1,1,1,4],[2,1,2,2]]}
[null,"은평구 장애인 유형별, 정도별 등록 현황"]
[null,{"$f":"정도별!B3","v":"*2025. 9월말 기준"}]
[{"$nulls":4},"(단위 : 명)"]
[null,"장애유형","합계","심한 장애","심하지 않은 장애"]
[null,"합 계",{"$f":"SUM(D5:E5)","v":21202},{"$f":"SUM(D6:D20)","v":8054},{"$f":"SUM(E6:E20)","v":13148}]
[null,"지체",{"$f":"SUM(D6:E6)","v":8216},{"$f":"은평구총괄!G8","v":1333},{"$f":"은평구총괄!J8","v":6883},{"$f":"C6/$C$5","v":0.3875106122063956}]
[null,"시각",{"$f":"SUM(D7:E7)","v":2275},{"$f":"은평구총괄!G9","v":433},{"$f":"은평구총괄!J9","v":1842},{"$f":"C7/$C$5","v":0.10730119800018866}]
[null,"청각",3346,{"$f":"은평구총괄!G10","v":614},{"$f":"은평구총괄!J10","v":2732},0.1578153004433544]
[null,"언어",168,{"$f":"은평구총괄!G11","v":94},{"$f":"은평구총괄!J11","v":74},7.9237807753985475E-3]
[null,"지적",1892,{"$f":"은평구총괄!G12","v":1892},{"$f":"은평구총괄!J12","v":0},8.9236864446750302E-2]
[null,"뇌병변",2061,{"$f":"은평구총괄!G13","v":1137},{"$f":"은평구총괄!J13","v":924},9.7207810583907178E-2]
[null,"자폐성",525,{"$f":"은평구총괄!G14","v":525},{"$f":"은평구총괄!J14","v":0},2.4761814923120462E-2]
[null,"정신",1111,{"$f":"은평구총괄!G15","v":1071},{"$f":"은평구총괄!J15","v":40},5.2400716913498728E-2]
[null,"신장",997,{"$f":"은평구총괄!G16","v":776},{"$f":"은평구총괄!J16","v":221},4.7023865673049711E-2]
[null,"심장",45,{"$f":"은평구총괄!G17","v":31},{"$f":"은평구총괄!J17","v":14},2.1224412791246111E-3]
[null,"호흡기",110,{"$f":"은평구총괄!G18","v":103},{"$f":"은평구총괄!J18","v":7},5.1881897934157152E-3]
[null,"간",172,{"$f":"은평구총괄!G19","v":7},{"$f":"은평구총괄!J19","v":165},8.1124422224318465E-3]
[null,"안면",24,{"$f":"은평구총괄!G20","v":9},{"$f":"은평구총괄!J20","v":15},1.1319686821997924E-3]
[null,"장루.요루",196,{"$f":"은평구총괄!G21","v":18},{"$f":"은평구총괄!J21","v":178},9.2444109046316385E-3]
[null,"뇌전증",64,{"$f":"은평구총괄!G22","v":11},{"$f":"은평구총괄!J22","v":53},3.0185831525327798E-3]

{"sheet":"Sheet1","index":6,"n_rows":16,"n_cols":2,"rows_kept":16,"cut":false,"hidden":true,"merged":[]}
[" 구산동",2238]
[" 역촌동",2143]
[" 진관동",1968]
[" 불광1동",1720]
[" 녹번동",1641]
[" 불광2동",1442]
[" 응암3동",1327]
[" 응암1동",1326]
[" 대조동",1230]
[" 신사1동",1229]
[" 갈현2동",1204]
[" 갈현1동",1046]
[" 응암2동",987]
[" 신사2동",927]
[" 증산동",703]
[" 수색동",623]

{"sheet":"Sheet2","index":7,"n_rows":22,"n_cols":18,"rows_kept":22,"cut":false,"hidden":true,"merged":[[1,13,2,13],[21,0,21,12],[1,10,1,12],[0,0,0,9],[1,0,2,0],[1,1,1,3],[1,4,1,6],[1,7,1,9]]}
[" 은평구 동별 장애인현황(유형별)\n(2024. 3월말)"]
["동별","합계",null,null,"지적",null,null,"자폐",null,null,"발달장애인",null,null,"발달장애인비율"]
[null,"합계","남성","여성","소계","남성","여성","소계","남성","여성","소계","남성","여성"]
["합  계",{"$f":"C4+D4","v":21202},{"$f":"SUM(C5:C20)","v":12316},{"$f":"SUM(D5:D20)","v":8886},{"$f":"F4+G4","v":1892},{"$f":"SUM(F5:F20)","v":1241},{"$f":"SUM(G5:G20)","v":651},{"$f":"I4+J4","v":8216},{"$f":"SUM(I5:I20)","v":4476},{"$f":"SUM(J5:J20)","v":3740},{"$f":"L4+M4","v":10108},{"$f":"F4+I4","v":5717},{"$f":"G4+J4","v":4391},{"$f":"K4/B4","v":0.47674747665314593}]
["녹번동",{"$f":"C5+D5","v":1621},{"$f":"유형별!C5","v":935},{"$f":"유형별!D5","v":686},{"$f":"F5+G5","v":115},{"$f":"유형별!R5","v":73},{"$f":"유형별!S5","v":42},{"$f":"I5+J5","v":674},{"$f":"유형별!X5","v":371},{"$f":"유형별!Y5","v":303},{"$f":"E5+H5","v":789},{"$f":"F5+I5","v":444},{"$f":"G5+J5","v":345},0.48673658235657002]
["불광1동",1564,{"$f":"유형별!C6","v":874},{"$f":"유형별!D6","v":690},112,{"$f":"유형별!R6","v":67},{"$f":"유형별!S6","v":45},622,{"$f":"유형별!X6","v":341},{"$f":"유형별!Y6","v":281},734,408,326,0.46930946291560105]
["불광2동",1442,{"$f":"유형별!C7","v":842},{"$f":"유형별!D7","v":600},118,{"$f":"유형별!R7","v":71},{"$f":"유형별!S7","v":47},543,{"$f":"유형별!X7","v":306},{"$f":"유형별!Y7","v":237},661,377,284,0.45839112343966715]
["갈현1동",681,{"$f":"유형별!C8","v":388},{"$f":"유형별!D8","v":293},57,{"$f":"유형별!R8","v":37},{"$f":"유형별!S8","v":20},271,{"$f":"유형별!X8","v":142},{"$f":"유형별!Y8","v":129},328,179,149,0.48164464023494863,null,null,null,{"$f":"2206/21767","v":0.10134607433270547}]
["갈현2동",1262,{"$f":"유형별!C9","v":729},{"$f":"유형별!D9","v":533},107,{"$f":"유형별!R9","v":67},{"$f":"유형별!S9","v":40},504,{"$f":"유형별!X9","v":274},{"$f":"유형별!Y9","v":230},611,341,270,0.48415213946117275]
["구산동",2105,{"$f":"유형별!C10","v":1449},{"$f":"유형별!D10","v":656},401,{"$f":"유형별!R10","v":310},{"$f":"유형별!S10","v":91},577,{"$f":"유형별!X10","v":325},{"$f":"유형별!Y10","v":252},978,635,343,0.46460807600950121]
["대조동",1231,{"$f":"유형별!C11","v":705},{"$f":"유형별!D11","v":526},71,{"$f":"유형별!R11","v":47},{"$f":"유형별!S11","v":24},492,{"$f":"유형별!X11","v":265},{"$f":"유형별!Y11","v":227},563,312,251,0.45735174654752236]
["응암1동",1313,{"$f":"유형별!C12","v":715},{"$f":"유형별!D12","v":598},75,{"$f":"유형별!R12","v":45},{"$f":"유형별!S12","v":30},562,{"$f":"유형별!X12","v":291},{"$f":"유형별!Y12","v":271},637,336,301,0.48514851485148514]
["응암2동",959,{"$f":"유형별!C13","v":530},{"$f":"유형별!D13","v":429},72,{"$f":"유형별!R13","v":46},{"$f":"유형별!S13","v":26},364,{"$f":"유형별!X13","v":196},{"$f":"유형별!Y13","v":168},436,242,194,0.45464025026068822]
["응암3동",1314,{"$f":"유형별!C14","v":736},{"$f":"유형별!D14","v":578},89,{"$f":"유형별!R14","v":60},{"$f":"유형별!S14","v":29},509,{"$f":"유형별!X14","v":274},{"$f":"유형별!Y14","v":235},598,334,264,0.45509893455098932]
["역촌동",2171,{"$f":"유형별!C15","v":1216},{"$f":"유형별!D15","v":955},205,{"$f":"유형별!R15","v":127},{"$f":"유형별!S15","v":78},886,{"$f":"유형별!X15","v":467},{"$f":"유형별!Y15","v":419},1091,594,497,0.50253339474896364]
["신사1동",1246,{"$f":"유형별!C16","v":731},{"$f":"유형별!D16","v":515},148,{"$f":"유형별!R16","v":88},{"$f":"유형별!S16","v":60},479,{"$f":"유형별!X16","v":275},{"$f":"유형별!Y16","v":204},627,363,264,0.5032102728731942]
["신사2동",880,{"$f":"유형별!C17","v":503},{"$f":"유형별!D17","v":377},80,{"$f":"유형별!R17","v":46},{"$f":"유형별!S17","v":34},377,{"$f":"유형별!X17","v":203},{"$f":"유형별!Y17","v":174},457,249,208,0.51931818181818179]
["증산동",656,{"$f":"유형별!C18","v":384},{"$f":"유형별!D18","v":272},43,{"$f":"유형별!R18","v":27},{"$f":"유형별!S18","v":16},278,{"$f":"유형별!X18","v":159},{"$f":"유형별!Y18","v":119},321,186,135,0.48932926829268292]
["수색동",822,{"$f":"유형별!C19","v":444},{"$f":"유형별!D19","v":378},61,{"$f":"유형별!R19","v":41},{"$f":"유형별!S19","v":20},317,{"$f":"유형별!X19","v":164},{"$f":"유형별!Y19","v":153},378,205,173,0.45985401459854014]
["진관동",1935,{"$f":"유형별!C20","v":1135},{"$f":"유형별!D20","v":800},138,{"$f":"유형별!R20","v":89},{"$f":"유형별!S20","v":49},761,{"$f":"유형별!X20","v":423},{"$f":"유형별!Y20","v":338},899,512,387,0.46459948320413436]
[]
["*발달장애인 수는 2,206명으로  전체 장애인의 10.1%"]

{"sheet":"Sheet3","index":8,"n_rows":41,"n_cols":17,"rows_kept":41,"cut":false,"hidden":true,"merged":[[1,8,1,10],[3,6,18,6],[1,12,2,12],[1,13,2,13],[1,14,1,16],[3,12,18,12],[1,7,2,7],[1,0,2,0],[1,1,2,1],[1,2,1,4],[3,0,18,0],[1,6,2,6]]}
[]
["자치구","장애유형","2023",null,null,null,"자치구","장애유형","2022",null,null,null,"자치구","장애유형","2021"]
[null,null,"계","남","여",null,null,null,"계","남","여",null,null,null,"계","남","여"]
["은평구","합 계",21602,12604,8998,null,"은평구","합 계",{"$f":"SUM(I5:I19)","v":21753},{"$f":"SUM(J5:J19)","v":12687},9066,null,"은평구","합 계",21753,12704,9049]
[null,"지체",8636,4714,3922,null,null,"지체",8837,4842,3995,null,null,"지체",8917,4897,4020]
[null,"시각",2265,1340,925,null,null,"시각",2274,1364,910,null,null,"시각",2315,1387,928]
[null,"청각",3350,1869,1481,null,null,"청각",3350,1853,1497,null,null,"청각",3282,1814,1468]
[null,"언어",173,124,49,null,null,"언어",181,134,47,null,null,"언어",177,129,48]
[null,"지적",1863,1222,641,null,null,"지적",1828,1200,628,null,null,"지적",1805,1185,620]
[null,"뇌병변",2188,1307,881,null,null,"뇌병변",2218,1318,900,null,null,"뇌병변",2244,1349,895]
[null,"자폐성",450,377,73,null,null,"자폐성",396,333,63,null,null,"자폐성",355,298,57]
[null,"정신",1137,696,441,null,null,"정신",1148,705,443,null,null,"정신",1162,718,444]
[null,"신장",928,569,359,null,null,"신장",894,542,352,null,null,"신장",874,533,341]
[null,"심장",49,26,23,null,null,"심장",55,24,31,null,null,"심장",55,26,29]
[null,"호흡기",122,88,34,null,null,"호흡기",120,86,34,null,null,"호흡기",130,92,38]
[null,"간",164,109,55,null,null,"간",168,113,55,null,null,"간",166,114,52]
[null,"안면",25,13,12,null,null,"안면",22,11,11,null,null,"안면",23,12,11]
[null,"장루.요루",187,118,69,null,null,"장루.요루",194,126,68,null,null,"장루.요루",181,114,67]
[null,"뇌전증",65,32,33,null,null,"뇌전증",68,36,32,null,null,"뇌전증",67,36,31]
[]
[]
[null,null,2023,2022,2021,null,2024,2025,2026,2027,2028]
["외부신체기능장애",null,{"$f":"SUM(C5,C10,C6,C7,C8,C17)","v":16637},{"$f":"SUM(I5,I10,I6,I7,I8,I17)","v":16882},{"$f":"SUM(O5,O10,O6,O7,O8,O17)","v":16958},null,{"$f":"C23+C23*$G$29","v":16478.998411},{"$f":"G23+G23*$G$29","v":16322.497363090733},{"$f":"H23+H23*$G$29","v":16167.48260563346},{"$f":"I23+I23*$G$29","v":16013.940023327759},{"$f":"J23+J23*$G$29","v":15861.855634926216}]
["내부기관장애",null,{"$f":"SUM(C13,C14,C16,C15,C18,C19)","v":1515},{"$f":"SUM(I13:I16,I18,I19)","v":1499},{"$f":"SUM(O13:O16,O18:O19)","v":1473},null,{"$f":"C24+C24*$G$30","v":1536.4523999999999},{"$f":"G24+G24*$G$30","v":1558.208565984},{"$f":"H24+H24*$G$30","v":1580.2727992783334},{"$f":"I24+I24*$G$30","v":1602.6494621161146},{"$f":"J24+J24*$G$30","v":1625.3429784996788}]
["정신적장애",null,{"$f":"SUM(C9,C12,C11)","v":3450},{"$f":"SUM(I9,I11,I12)","v":3372},{"$f":"SUM(O9,O11,O12)","v":3322},null,{"$f":"C25+C25*$G$31","v":3515.8604999999998},{"$f":"G25+G25*$G$31","v":3582.9782769449998},{"$f":"H25+H25*$G$31","v":3651.37733225188},{"$f":"I25+I25*$G$31","v":3721.0821255245683},{"$f":"J25+J25*$G$31","v":3792.1175833008324}]
["계",null,{"$f":"SUM(C23:C25)","v":21602},{"$f":"SUM(D23:D25)","v":21753},{"$f":"SUM(E23:E25)","v":21753},null,{"$f":"SUM(G23:G25)","v":21531.311310999998},{"$f":"SUM(H23:H25)","v":21463.684206019734},{"$f":"SUM(I23:I25)","v":21399.132737163673},{"$f":"SUM(J23:J25)","v":21337.671610968442},{"$f":"SUM(K23:K25)","v":21279.316196726726}]
[]
[]
["외부신체기능장애",null,{"$f":"(D23-C23)/D23","v":1.4512498519132805E-2},4.4816605731807999E-3,null,{"$f":"(C29+D29)/2","v":9.4970795461568024E-3},-9.4970000000000002E-3]
["내부기관장애",null,-1.067378252168112E-2,-1.7651052274270197E-2,null,{"$f":"(C30+D30)/2","v":-1.4162417397975659E-2},1.4160000000000001E-2]
["정신적장애",null,-2.3131672597864767E-2,-1.5051173991571343E-2,null,{"$f":"(C31+D31)/2","v":-1.9091423294718055E-2},1.9089999999999999E-2]
["계"]
[]
[]
[]
[null,null,2024,2025,2026,2027,2028]
[null,null,-2.5999999999999999E-3]
["외부신체기능장애",16637,16593.7438,16550.600066120001,16507.568505948089,16464.648827832625,16421.84074088026]
["내부기관장애",1515,1511.0609999999999,1507.1322413999999,1503.2136975723599,1499.3053419586718,1495.4071480695793]
["정신적장애",3450,3441.03,3432.0833220000004,3423.1599053628006,3414.2596896088571,3405.3826144158743]
[null,21602,21545.834800000001,21489.815629520002,21433.94210888325,21378.213859400155,21322.630503365712]